BEGIN:VCALENDAR
VERSION:2.0
PRODID:-//Themis - ECPv4.9.7//NONSGML v1.0//EN
CALSCALE:GREGORIAN
METHOD:PUBLISH
X-WR-CALNAME:Themis
X-ORIGINAL-URL:https://www.massaggiebenessere.com
X-WR-CALDESC:Eventi per Themis
BEGIN:VTIMEZONE
TZID:"Europe/Rome"
BEGIN:DAYLIGHT
TZOFFSETFROM:+0100
TZOFFSETTO:+0200
TZNAME:CEST
DTSTART:20260329T010000
END:DAYLIGHT
BEGIN:STANDARD
TZOFFSETFROM:+0200
TZOFFSETTO:+0100
TZNAME:CET
DTSTART:20261025T010000
END:STANDARD
END:VTIMEZONE
BEGIN:VEVENT
DTSTART;TZID="Europe/Rome":20260419T090000
DTEND;TZID="Europe/Rome":20260421T180000
DTSTAMP:20260423T095844
CREATED:20231228T153723Z
LAST-MODIFIED:20251227T111043Z
UID:13218-1776589200-1776794400@www.massaggiebenessere.com
SUMMARY:Corso TRUCCO SEMIPERMANENTE - Castelfranco V.to
DESCRIPTION: \nPmu Academy di Themis Formazione: l’evoluzione della formazione nel campo del trucco semipermanente . Innovazione\, competenza e dedizione sono le fondamenta su cui negli anni abbiamo costruito la nostra Accademia\, oggi punto di inizio per carriere professionali riconosciute nel mondo della dermopigmentazione estetica.\nIl nostro corso Base Trucco Semi Permanente rende l’allievo performante e autonomo fin da subito\, grazie all’adozione di un programma formativo completo di 4 giorni\, suddiviso in diverse sezioni tecnico/pratiche.\nSarete accompagnati in ogni fase della crescita accademica da un Team professionale\, che vi supporterà e vi motiverà nella realizzazione del vostro sogno lavorativo. Il corso professionale è stato pensato e strutturato per l’allievo principiante che desidera apprendere le tecniche basilari della dermopigmentazione estetica\, per entrare nel mondo del lavoro come dipendente o con attività autonoma.\nTutti i protocolli\, la strumentazione e i pigmenti utilizzati durante la formazione sono stati testati negli anni dai nostri docenti e corsisti\, a seguito di un’attenta selezione\, portandoci ad adottare solo la più alta qualità proposta sul mercato. La nostra Accademia è ;unica che offre nel pacchetto del Corso Base di Trucco Semipermanente il giorno del Ritocco\, per garantire una formazione completa e altamente qualificante alle sue studenti!\nLa formazione firmata PMU ACADEMY di Themis Formazione prevede:\n3 giorni di formazione\, domenica – lunedì – martedì dalle ore 9 alle ore 17 + 1 lezione per il ritocco nel mese successivo\nTecniche sopracciglia: Sfumatura/velatura leggera effetto ombretto Pelo a pelo effetto Microblading\nTecnica mista: velatura + pelo\nTecnica occhi: infraliner completo superiore e inferiore \nPROGRAMMA CORSO TRUCCO SEMIPERMANTE PMU ACADEMY \nPrimo e secondo giorno\nFasi dell’intervento: impianto\, scarico\, cicatrizzazione e ritocco\nAfter Care e cura del tatuaggio viso semipermanente\nCosti relativi e controindicazioni\nScelta dei pigmenti e loro interazione: colorimetria\nDermatologia applicata alla Dermopigmentazione\nQuadro legislativo e elementi di marketing\nLa postazione di lavoro e il campo sterile\nPsicologia della cliente e relativo colloquio\, la consulenza ed il consenso informato\nIl dermografo caratteristiche\, performances e scelta degli aghi\nI pigmenti certificati Rich e Resap i migliori nel rapporto qualità/prezzo\nPigmentologia\, colorimetria e studio biotipi di pelle nei trattamenti\nIl disegno perfetto: visagismo e studio morfologico sopracciglia occhi e labbra\nArchitettura\, ricostruzione e correzione sopracciglia\nSpiegazione teorica e simulazione pratica sopracciglia 3 Tecniche\nPelo a pelo realistico (effetto microblading)\,\nSfumatura leggera effetto ombretto\nTecnica mista: pelo realistico + sfumatura ombretto\nSpiegazione teorica e simulazione pratica di occhi: infraliner completo superiore e inferiore\nSpiegazione teorica e simulazione pratica labbra: ridefinizione contorno\, correzione\nasimmetria e sfumatura leggera con manovre cerchietti e criss\cross\nProva pratica su supporti sintetici di tutte le tecniche sopracciglia\, occhi e labbra. \nTerzo giorno\nProva pratica su modelle delle tecniche indicate da programma. Discussione finale e\nattivazione classe e chat di supporto con le nostre tutor: le allieve continueranno la\nformazione su piattaforma\, eseguendo le manovre apprese durante il corso su supporti\nsintetici (avvalendosi di materiale audiovisivo che verrà consegnato alla classe) affiancata e\nguidata in questo percorso formativo vincente dai consigli e dai suggerimenti offerti dal\nnostro Team di Master Trainer altamente qualificato. \nQuarto giorno\nDopo 30/40 giorni\, tempo necessario affinchè la pigmentazione eseguita sulle modelle nella\nprima sessione sia guarita\, le allieve tornano in Accademia per eseguire la seconda seduta\ndi trucco semipermanente sopracciglia\, occhi e labbra alle modelle ( fase chiamata\nRitocco).La seduta di Ritocco è parte fondamentale nel percorso per diventare una brava\noperatrice e per lavorare in autonomia in breve tempo\, perchè momento che arricchisce e\ncompleta il Know How dell’;allieva del Corso Base. \n  \nORGANIZZAZIONE DEL CORSO:\nDurata del corso: 3 gg.  domenica\, lunedì\, martedì + una giornata ritocco\nOrario: 09.00 – 17.00\nNumero massimo partecipanti: cinque\nSi rilascia:  Attestato  Valido per il mondo del lavoro\nRifrequenza Gratuita: Themis ti offre la possibilità di rifrequentare il corso gratuitamente entro 6 mesi\nSede del corso: Castelfranco Veneto (TV)  via Tullio Piccinini 13 \nSUPPORTO AL CLIENTE \nKit fornito dall’accademia per le prove pratiche delle manovre apprese durante la formazione\nMateriale didattico PDF e cartaceo\nAssistenza illimitata post corso individuale e in chat\nPossibilità acquisto attrezzatura e pigmenti\nAttivazione Voucher sconto 10% per Master Sopracciglia\, Master Occhi e Labbra\, Corso Microblading e Corso Needling \nCristina Sorgato 329 7636654  – Pmu Academy di Themis Formazione \n
URL:https://www.massaggiebenessere.com/event/corso-trucco-semipermanente-castelfranco-v-to-7
LOCATION:CASTELFRANCO VENETO\, Via Tullio Piccinini 13\, Castelfranco Veneto (TV)\, 31033\, Italia
CATEGORIES:Trucco Semipermanente Cromatico
ATTACH;FMTTYPE=image/jpeg:https://www.massaggiebenessere.com/wp-content/uploads/2015/08/corso-trucco-semipermanente-2016.jpg
END:VEVENT
END:VCALENDAR