BEGIN:VCALENDAR
VERSION:2.0
PRODID:-//Themis - ECPv4.9.7//NONSGML v1.0//EN
CALSCALE:GREGORIAN
METHOD:PUBLISH
X-WR-CALNAME:Themis
X-ORIGINAL-URL:https://www.massaggiebenessere.com
X-WR-CALDESC:Eventi per Themis
BEGIN:VTIMEZONE
TZID:"Europe/Rome"
BEGIN:DAYLIGHT
TZOFFSETFROM:+0100
TZOFFSETTO:+0200
TZNAME:CEST
DTSTART:20260329T010000
END:DAYLIGHT
BEGIN:STANDARD
TZOFFSETFROM:+0200
TZOFFSETTO:+0100
TZNAME:CET
DTSTART:20261025T010000
END:STANDARD
END:VTIMEZONE
BEGIN:VEVENT
DTSTART;TZID="Europe/Rome":20260619T093000
DTEND;TZID="Europe/Rome":20260622T173000
DTSTAMP:20260423T160310
CREATED:20230310T141723Z
LAST-MODIFIED:20251224T161222Z
UID:13115-1781861400-1782149400@www.massaggiebenessere.com
SUMMARY:CORSO TATUAGGIO PRATICO - Castelfranco V.to
DESCRIPTION: \nL’arte del tatuaggio è diventata una vera e propria professione! Per imparare questa attività\, e svolgerla legalmente è fondamentale rivolgersi a una Scuola Professionale e Abilitata.\nTHEMIS FORMAZIONE con più di vent’anni di esperienza nel settore  è un Ente di Formazione che rilascia Attestati validi per il mondo del lavoro  per apertura attività o per lavorare presso Studi Tattoo. \nNEI QUATTRO GIORNI DEL CORSO\,  IMPARERAI LE NOZIONI FONDAMENTALI PER SVOLGERE PROFESSIONALMENTE UN TATUAGGIO ARTISTICO\, UTILIZZANDO MATERIALI E ATTREZZATURA  DI ULTIMA GENERAZIONE.\nIl corso di Tatuaggio ha una durata di quattro giorni (sabato\, domenica\, lunedì\, martedì) il numero massimo di partecipanti e di sei persone per ogni gruppo.\nil corso predilige l’aspetto pratico\, molto spazio sarà infatti dato all’esercizio con le apposite macchine per tatuaggio. Attrezzatura e materiale di consumo per svolgere il corso viene fornito dalla scuola il tutto compreso nel prezzo del corso.\nIl corso di Tatuaggio Artistico prevede una verifica finale e il rilascio dell’attestato  che certifica la preparazione e la capacità operativa dell’allievo. \n  \nPROGRAMMA DEL CORSO TATUAGGIO  (30% teoria  70% pratica) \n1° Giorno\nPRIMO MODULO: Trovare la motivazione\, passare da disegnatore a tatuatore\n1. Introduzione\n2. Spiegazione dei moduli del corso\n3. Impostazione mentale\n4. Disegno e Tattoo\n5. Il passaggio \nSECONDO MODULO: Scegliere le attrezzature ed i materiali per essere pronti a lavorare\n1. La pelle\n2. Attrezzatura\n3. Materiale di consumo\n4. Dispositivi di protezione individuali\n5. Check list\n6. Esercitazione su pelle sintetica \n2° Giorno\nTERZO MODULO: Come applicare il disegno e preparare tutto per il primo tatuaggio\n1. Scelta del disegno\n2. Preparazione dello stencil\n3. Scelta e valutazione della zona corporea\n4. Preparazione dell’ambiente di lavoro\n5. Tavolino \nQUARTO MODULO: Esercizi pratici e come approcciarsi al cliente\n1. Esercizi su carta\n2. Esercizi su pelle sintetica \n3° Giorno\nQUINTO MODULO: Tecnica e cura del tatuaggio\n1. Le regole\n2. La linea\n3. Riempimento\n4. Sfumature\n5. Precauzioni\n6. Cura \n4° Giorno\nSESTO MODULO: Prova pratica di tatuaggio\n1. Esecuzione tatuaggio su modello in campo sterile\n2. Discussione e Conclusione lavori\n3. Consegna attestato \n  \nORGANIZZAZIONE DEL CORSO: \n\nDurata del corso: 4 gg.  sabato\, domenica\, lunedì\, martedì\nOrario: 09.30 – 18.00\nNumero partecipanti: sei\nSi rilascia:  Attestato  Valido per il mondo del lavoro\nRifrequenza Gratuita: Themis ti offre la possibilità di rifrequentare il corso gratuitamente entro 6 mesi\nSede del corso: Castelfranco Veneto (TV)  via Tullio Piccinini 13\n\n
URL:https://www.massaggiebenessere.com/event/corso-tatuaggio-base-castelfranco-v-to
LOCATION:CASTELFRANCO VENETO\, Via Tullio Piccinini 13\, Castelfranco Veneto (TV)\, 31033\, Italia
CATEGORIES:Tatuaggio Artistico
ATTACH;FMTTYPE=image/jpeg:https://www.massaggiebenessere.com/wp-content/uploads/2015/01/Fotolia_6302237_XS.jpg
END:VEVENT
END:VCALENDAR