BEGIN:VCALENDAR
VERSION:2.0
PRODID:-//Themis - ECPv4.9.7//NONSGML v1.0//EN
CALSCALE:GREGORIAN
METHOD:PUBLISH
X-WR-CALNAME:Themis
X-ORIGINAL-URL:https://www.massaggiebenessere.com
X-WR-CALDESC:Eventi per Themis
BEGIN:VTIMEZONE
TZID:"Europe/Rome"
BEGIN:DAYLIGHT
TZOFFSETFROM:+0100
TZOFFSETTO:+0200
TZNAME:CEST
DTSTART:20260329T010000
END:DAYLIGHT
BEGIN:STANDARD
TZOFFSETFROM:+0200
TZOFFSETTO:+0100
TZNAME:CET
DTSTART:20261025T010000
END:STANDARD
END:VTIMEZONE
BEGIN:VEVENT
DTSTART;TZID="Europe/Rome":20260426T090000
DTEND;TZID="Europe/Rome":20260426T183000
DTSTAMP:20260423T101902
CREATED:20231230T164044Z
LAST-MODIFIED:20260406T105319Z
UID:13276-1777194000-1777228200@www.massaggiebenessere.com
SUMMARY:CORSO RICOSTRUZIONE UNGHIE GEL Padova
DESCRIPTION: \nCorso Ricostruzione Gel Monofasico a Padova\nIl corso è aperto anche a chi non ha nessuna esperienza nel settore estetico. \nIl corso di Ricostruzione Unghie gel che ti proponiamo è un corso professionale pratico rivolto al principiante\, infatti 80% del tempo a disposizione è dedicato all’esercitazione su modella.\nPer un migliore apprendimento il corso è organizzato con un minimo di tre fino a un massimo di cinque partecipanti.\nIl programma del corso è completo\, quindi non sei costretta a frequentare altri corsi di formazione per completare le tue conoscenze ed iniziare a lavorare.\nIl metodo di Ricostruzione insegnato al corso è il NUOVO SISTEMA MONOFASICO: molto semplice da apprendere; veloce da eseguire; di lunga durata per la cliente.\nIl materiale di consumo per svolgere il corso (gel e attrezzatura varia) viene fornito dalla scuola\, e non c’è obbligo di acquisto prodotti.\nAl termine del corso potrai usufruire di assistenza tecnica per sei mesi direttamente dalla Tua Insegnante\, inoltre se dopo aver partecipato al corso hai dubbi lo puoi rifrequentare gratuitamente (entro 2 mesi). \nNOVITA’ oltre al corso pratico in aula avrai  3 VIDEO CORSI ONLINE  fondamentali per la tua formazione. \n\nALTERAZIONI CROMATICHE DELL’UNGHIA\nMALATTIE INFETTIVE DELL’UNGHIA\nALTERAZIONI MORFOLOGICHE DELL’UNGHIA\n\n  \nProgramma  corso  \nTEORIA\n– Introduzione alla ricostruzione dell’unghia in gel\n– Finalità\n– Anatomia e fisiologia dell’unghia\n– Patologia e inestetismi dell’unghia\n– Igiene e sanificazione\n– Conoscenza dei prodotti\n– Indicazioni e controindicazioni \nPRATICA (su modella)\n– Preparazione dell’unghia\n– Primo approccio alla Fresa\n– Ricostruzione gel unghia naturale\n– Allungamento con formine\n– Le 5 forme dell’unghia: Almond; Squoval; Stiletto; Square; Oval\n– Tecnica del french\n– Tecnica del Refil\n– Introduzione al Nail Art \n  \nORGANIZZAZIONE E DETTAGLI CORSO \n\nDurata del corso: 1 giorno pratico in aula (una domenica) + 3 video corsi online\norario: 09.00 – 18.30 con pausa pranzo di 45 minuti\nNumero partecipanti: 4 (modella obbligatoria )\nManuale corso e materiale di consumo compreso nel corso\nSi rilascia: ATTESTATO DI RICOSTRUZIONE UNGHIE METODO GEL\nRIFREQUENZA GRATUITA: se hai dubbi al termine del corso lo puoi ripetere gratuitamente entro 2 mesi\nSede del corso:  Padova via Mamiani 17\n\n  \n
URL:https://www.massaggiebenessere.com/event/corso-ricostruzione-unghie-gel-padova-4
LOCATION:PADOVA\, Via Mamiani 17\, Padova\, 35121\, Italia
CATEGORIES:Ricostruzione Unghie Gel
ATTACH;FMTTYPE=image/jpeg:https://www.massaggiebenessere.com/wp-content/uploads/2015/01/Fotolia_38806514_S.jpg
END:VEVENT
END:VCALENDAR