BEGIN:VCALENDAR
VERSION:2.0
PRODID:-//Themis - ECPv4.9.7//NONSGML v1.0//EN
CALSCALE:GREGORIAN
METHOD:PUBLISH
X-WR-CALNAME:Themis
X-ORIGINAL-URL:https://www.massaggiebenessere.com
X-WR-CALDESC:Eventi per Themis
BEGIN:VTIMEZONE
TZID:"Europe/Rome"
BEGIN:DAYLIGHT
TZOFFSETFROM:+0100
TZOFFSETTO:+0200
TZNAME:CEST
DTSTART:20260329T010000
END:DAYLIGHT
BEGIN:STANDARD
TZOFFSETFROM:+0200
TZOFFSETTO:+0100
TZNAME:CET
DTSTART:20261025T010000
END:STANDARD
END:VTIMEZONE
BEGIN:VEVENT
DTSTART;TZID="Europe/Rome":20260413T090000
DTEND;TZID="Europe/Rome":20260413T170000
DTSTAMP:20260423T110919
CREATED:20231228T165457Z
LAST-MODIFIED:20251227T135827Z
UID:13229-1776070800-1776099600@www.massaggiebenessere.com
SUMMARY:Corso NEEDLING - Castelfranco V.to
DESCRIPTION:\nCORSO NEEDLING  ESTETICO\nIl trattamento di induzione del collagene\nIl Corso Needling si basa sulla tecnica di stimolazione della produzione naturale di collagene ed elastina che\, mediante l’utilizzo di micro aghi\, induce un processo di autorigenerazione dall’interno.\nIl Micro-Needling estetico\, è un trattamento da consigliare alle clienti di qualsiasi età per i molteplici benefici che ne derivano: il ringiovanimento dei tessuti del viso e il rimpolpo di rughe grazie ai protocolli anti age; la rimozione di macchie senili e solari\, cloasmi e esiti cicatriziali post-acne.\nIl Needling ha ottimi risultati anche sugli inestetismi del corpo come cicatrici e smagliature e grazie ai Protocolli Corpo effetti sorprendenti su adipe\, cellulite e atonicità. \nPROGRAMMA 2024 \n– Il Needling e Micro-Needling estetico: metodo e campi di applicazioni\n– Indicazioni e Controindicazioni\n– Campi di applicazione e benefici\n– Il Micro-Needling cosmetico e la sua esecuzione\n– Manovre di applicazioni con dermaroller e dermografo\n– I Protocolli Viso Anti aging: super idratante\, rimpolpante-distensivo e lifting\n– Il protocollo macchie solari\, cloasmi\, cicatrici post acne e calvizie.\n– I Protocolli Corpo: trattamenti anti-adipe\, anti-cellulite e tonificazione\n– Il protocollo corpo: smagliature e cicatrici.\n– Attivi e mesoceutici da utilizzare in meso\n– Tipologia di dispositivi utilizzati: spatola ultrasonica\, derma pen\, dermografo\, elettroporatore\, dermaroller\, pernmicropatting\n– Pratica metodo estetico non invasivo 0\,5mm –\n– NOVITA! Presentazione e dimostrazione applicazione BB Glow Fondotinta Permanent \n  \nSTRUTTURA E ORGANIZZAZIONE DEL CORSO \nDurata corso: 1 giorno\nOrario:  09\,00 – 17\,00 con pausa pranzo\nNumero partecipanti:  max 5\nCosto del Corso: € 620 con Fidelity Card € 520 (iva 22% esclusa)\nSi rilascia Attestato: Needling Estetico\nSede Corso Needling  Castelfranco Veneto TV via Tullio Piccinini 13 \n
URL:https://www.massaggiebenessere.com/event/corso-needling-castelfranco-v-to-3
LOCATION:CASTELFRANCO VENETO\, Via Tullio Piccinini 13\, Castelfranco Veneto (TV)\, 31033\, Italia
CATEGORIES:Needling,Trucco Semipermanente Cromatico
ATTACH;FMTTYPE=image/jpeg:https://www.massaggiebenessere.com/wp-content/uploads/2018/03/needling.jpg
END:VEVENT
END:VCALENDAR