BEGIN:VCALENDAR
VERSION:2.0
PRODID:-//Themis - ECPv4.9.7//NONSGML v1.0//EN
CALSCALE:GREGORIAN
METHOD:PUBLISH
X-WR-CALNAME:Themis
X-ORIGINAL-URL:https://www.massaggiebenessere.com
X-WR-CALDESC:Eventi per Themis
BEGIN:VTIMEZONE
TZID:"Europe/Rome"
BEGIN:DAYLIGHT
TZOFFSETFROM:+0100
TZOFFSETTO:+0200
TZNAME:CEST
DTSTART:20260329T010000
END:DAYLIGHT
BEGIN:STANDARD
TZOFFSETFROM:+0200
TZOFFSETTO:+0100
TZNAME:CET
DTSTART:20261025T010000
END:STANDARD
END:VTIMEZONE
BEGIN:VEVENT
DTSTART;TZID="Europe/Rome":20260426T090000
DTEND;TZID="Europe/Rome":20260426T183000
DTSTAMP:20260423T102237
CREATED:20161205T183637Z
LAST-MODIFIED:20260406T120827Z
UID:11590-1777194000-1777228200@www.massaggiebenessere.com
SUMMARY:Corso KOBIDO MASSAGE - Castelfranco V.to
DESCRIPTION:\nCorso Massaggio Kobido: KOBIDO significa: “l’Antica via della bellezza”. E’ un antico massaggio facciale Giapponese praticato dai guerrieri Samurai per riequilibrare il libero movimento del proprio corpo\, attraverso le tecniche energetiche e di manipolazione\, per ripristinare l’equilibrio fisico e mentale prima di ogni combattimento e per aumentare la forza.\nCombina i concetti della medicina asiatica con le tecniche di massaggio tradizionale. Ha finalità sia estetiche che terapeutiche ed è tuttora il massaggio del viso più usato e conosciuto in Giappone.\nLo scopo di questo massaggio è contribuire a prolungare la salute e la bellezza in modo naturale. Nel corso Massaggio Kobido la tecnica viene eseguita su viso\, testa e collo ma\, attraverso la stimolazione dei punti riflessi situati sul viso (Tsubo)\, il corpo intero si rilassa come fosse stato massaggiato completamente e termina con un leggero massaggio ai piedi che ripristina la circolazione sanguigna in tutto il corpo. \n  \nPROGRAMMA CORSO KOBIDO: \nOrigini del Kobido – I solchi dermici (rughe)\, invecchiamento intrinseco\, invecchiamento estrinseco – La funzione dell’ ATM – Massaggio e allungamenti del collo – Massaggio del viso\nDigitopressione sui punti Tsubo del viso – Massaggio della testa – Breve massaggio dei piedi (eventuale: “Foot Asian Massage”) \n  \nINDICAZIONI: \n– Agisce sulla muscolatura profonda; Migliora la circolazione sanguigna e linfatica\n– Favorisce l’eliminazione delle tossine; Rigenera i tessuti\n– Stimola la produzione di collagene ed elastina da parte dei Fibroblasti\n– Accelera il turnover cellulare\n– Attenua le rughe e i cedimenti; Riduce le macchie date dall’età\n– Libera il viso e il collo dalla tensione muscolare; I segni dello stress scompaiono\n– La pelle è più luminosa\, tonica e levigata\n– E’ in grado di alleviare le emicranie; Attenua il dolore della mascella comune (ATM) \n  \nORGANIZZAZIONE CORSO: \n\nDurata del corso: 1 gg.\nOrario: domenica 09.00 – 18.30 con pausa pranzo\nNumero partecipanti:  max 6\nManuale e materiale vario:  compresi nel prezzo\nSi rilascia:  ATTESTATO  KOBIDO MASSAGE\nRIFREQUENZA GRATUITA:  se hai dubbi al termine del corso lo puoi ripetere gratuitamente\nSede del corso: Castelfranco Veneto (TV) via Tullio Piccinini 13\n\n
URL:https://www.massaggiebenessere.com/event/corso-kobido-massage-castelfranco-v-to-3
LOCATION:CASTELFRANCO VENETO\, Via Tullio Piccinini 13\, Castelfranco Veneto (TV)\, 31033\, Italia
CATEGORIES:Kobido Massage
ATTACH;FMTTYPE=image/jpeg:https://www.massaggiebenessere.com/wp-content/uploads/2015/02/POSTURALE-VISO.jpg
END:VEVENT
END:VCALENDAR