BEGIN:VCALENDAR
VERSION:2.0
PRODID:-//Themis - ECPv4.9.7//NONSGML v1.0//EN
CALSCALE:GREGORIAN
METHOD:PUBLISH
X-WR-CALNAME:Themis
X-ORIGINAL-URL:https://www.massaggiebenessere.com
X-WR-CALDESC:Eventi per Themis
BEGIN:VTIMEZONE
TZID:"Europe/Rome"
BEGIN:DAYLIGHT
TZOFFSETFROM:+0100
TZOFFSETTO:+0200
TZNAME:CEST
DTSTART:20260329T010000
END:DAYLIGHT
BEGIN:STANDARD
TZOFFSETFROM:+0200
TZOFFSETTO:+0100
TZNAME:CET
DTSTART:20261025T010000
END:STANDARD
END:VTIMEZONE
BEGIN:VEVENT
DTSTART;TZID="Europe/Rome":20260622T093000
DTEND;TZID="Europe/Rome":20260623T173000
DTSTAMP:20260423T123250
CREATED:20200212T170420Z
LAST-MODIFIED:20251227T135430Z
UID:12472-1782120600-1782235800@www.massaggiebenessere.com
SUMMARY:corso CORSO MICRODERMAL ANCHOR  E SURFACE PIERCING
DESCRIPTION: \nIl corso Microdermal e Surface Piercing è indirizzato ai professionisti del settore\, che vogliono perfezionare l’arte della perforazione corporea. L’obiettivo del corso formativo è fornire nozioni approfondite tecniche\, specifiche per le pratiche impiantologiche di microdermal e surface. Il microdermal è una particolare tipologia di piercing che può essere realizzato in punti nei quali non è possibile posizionare i piercing classici\, come polsi\, zigomi\, spalle\, ventre. Il surface piercing interessa invece la cute e viene praticato attraversando la pelle parallelamente ad essa\, non interessando alcuna zona sporgente del corpo. \nPROGRAMMA CORSO \nIl corso si svolgerà in due giornate\, dove verranno sviluppate le seguenti nozioni: \nPrimo giorno \n• Microdermal e Surface: Cosa sono e come sono fatti (forme e materiali)\n• Componenti aggiuntivi\n• Attrezzatura per l’esecuzione (perforazione e inserimento): punch\, ago\, clamps\, blade\n• Valutazione anatomica e struttura tessuti delle zone adatte all’impianto\n• Tecniche di esecuzione e inserimento microdermal e surface\n• Trattamento e cura post esecuzione\n• Prova pratica su supporti sintetici \nSecondo giorno \n• Prova pratica di microdermal e surface su modelli reali\n• Trattamento e cura post esecuzione\n• Problematiche riscontrate\n• Analisi del lavoro e del post guarigione\n• Trattamento e cura post esecuzione\n• Consegna Attestati \nORGANIZZAZIONE CORSO \nDurata corso: 2 giornate ( lunedì e martedì)\nOrario: 09.30 – 17.30\nNumero partecipanti: max 4\nSi rilascia: Attestato di MASTER BODY PIERCING MICRODERMAL SURFACE ( valido per il mondo del lavoro)\nRifrequenza gratuita: Hai possibilità di rifrequentare il corso gratuitamente entro 3 mesi\nCosto di Listino: € 990 con Fidelity Card € 880 (prezzi iva esclusa)\nSede Corso : Castelfranco Veneto via Tullio Piccinini 13 \n  \n
URL:https://www.massaggiebenessere.com/event/corso-corso-microdermal-anchor-e-surface-piercing
LOCATION:CASTELFRANCO VENETO\, Via Tullio Piccinini 13\, Castelfranco Veneto (TV)\, 31033\, Italia
CATEGORIES:Body Piercing
ATTACH;FMTTYPE=image/jpeg:https://www.massaggiebenessere.com/wp-content/uploads/2020/02/corso-microdermal-copertina.jpg
END:VEVENT
END:VCALENDAR