BEGIN:VCALENDAR
VERSION:2.0
PRODID:-//Themis - ECPv4.9.7//NONSGML v1.0//EN
CALSCALE:GREGORIAN
METHOD:PUBLISH
X-WR-CALNAME:Themis
X-ORIGINAL-URL:https://www.massaggiebenessere.com
X-WR-CALDESC:Eventi per Themis
BEGIN:VTIMEZONE
TZID:"Europe/Rome"
BEGIN:DAYLIGHT
TZOFFSETFROM:+0100
TZOFFSETTO:+0200
TZNAME:CEST
DTSTART:20260329T010000
END:DAYLIGHT
BEGIN:STANDARD
TZOFFSETFROM:+0200
TZOFFSETTO:+0100
TZNAME:CET
DTSTART:20261025T010000
END:STANDARD
END:VTIMEZONE
BEGIN:VEVENT
DTSTART;TZID="Europe/Rome":20260620T093000
DTEND;TZID="Europe/Rome":20260621T173000
DTSTAMP:20260423T143437
CREATED:20250104T094250Z
LAST-MODIFIED:20260406T103147Z
UID:13413-1781947800-1782063000@www.massaggiebenessere.com
SUMMARY:CORSO CERETTA - Castelfranco V.to
DESCRIPTION:\nCORSO EPILAZIONE  PROFESSIONALE TEORICO E PRATICO \nIl corso è aperto anche a chi non ha nessuna esperienza nel settore estetico. \nIl corso di epilazione (ceretta) è un corso di estetica pratica rivolto alla principiante interessata ad apprendere questa tecnica per motivi di cultura personale o per iniziare un rapporto di collaborazione o di lavoro dipendente presso centri di Estetica e Benessere. Il corso predilige l’aspetto pratico\, infatti il 70% del tempo a disposizione è dedicato all’esercitazione su modella\, senza naturalmente trascurare quelle nozioni teoriche importanti ed essenziali per svolgere al meglio questa pratica estetica. Saranno illustrate e insegnate anche altre possibilità di intervento come Dry brushing e la cosmesi anti ricrescita del pelo . Il corso di ceretta prevede il rilascio di un attestato della scuola THEMIS che certifica l’idoneità e la capacità operativa dell’allievo. \nPROGRAMMA CORSO (25% teoria – 75% pratica) \nTEORIA\n– anatomia e fisiologia del pelo\n– il ciclo del pelo e le anomalie della crescita\n– i prodotti epilatori e post -epilatori\n– epilazione a caldo\, a freddo\, con pinzetta\n– conoscenza e utilizzo del Dry brushing\n– decolorazione\n– studio ed epilazione arcata sopraccigliare \nPRATICA\n– preparazione ambiente e valutazione tipologia cliente\n– tecnica epilatoria gamba e coscia\n– tecnica epilatoria inguine\, ascelle\, baffetto\n– tecnica epilatoria schiena\n– tecnica epilatoria arcata sopraccigliare \nORGANIZZAZIONE E DETTAGLI DEL CORSO: \nDurata del corso: 2 giorni (sabato e domenica)\nOrario: 09.30 – 17.30\nCosto listino: € 390 con FIDELITY CARD paghi questo corso € 360\nNumero partecipanti:  4\nMateriale e attrezzatura del corso sono forniti dalla Scuola\nSi rilascia: ATTESTATO IN EPILAZIONE ESTETICA CORPO\nRifrequenza Gratuita: se hai dubbi al termine del corso lo puoi ripetere gratuitamente\nSede del corso: Castelfranco Veneto TV \n
URL:https://www.massaggiebenessere.com/event/corso-ceretta-castelfranco-v-to
LOCATION:CASTELFRANCO VENETO\, Via Tullio Piccinini 13\, Castelfranco Veneto (TV)\, 31033\, Italia
CATEGORIES:Epilazione Corpo
ATTACH;FMTTYPE=image/jpeg:https://www.massaggiebenessere.com/wp-content/uploads/2015/01/corso-epilazione-1.jpg
END:VEVENT
END:VCALENDAR